BEGIN:VCALENDAR
VERSION:2.0
PRODID:-//http://fairlieyachtclub.org.uk//NONSGML kigkonsult.se iCalcreator
  2.20//
METHOD:PUBLISH
X-WR-CALNAME:JCal Pro Calendar
X-WR-CALDESC:Your online events calendar
X-WR-TIMEZONE:UTC
BEGIN:VTIMEZONE
TZID:UTC
X-LIC-LOCATION:UTC
BEGIN:STANDARD
DTSTART:00001130T000000
TZOFFSETFROM:+0000
TZOFFSETTO:+0000
TZNAME:UTC
END:STANDARD
END:VTIMEZONE
BEGIN:VEVENT
UID:20220625T110000UTC-61a3b4@http://www.fairlieyachtclub.org.uk/
DTSTAMP:20260423T093919Z
DESCRIPTION:<p>The annual crews' race - Helm should be a FYC member but not
  a regular helm.</p>\n\n<p>Muster ashore - bring a BBQ&nbsp\;</p>\n\n<p>RN
 LI Duck Race - Family activities to be organised</p>\n
DTSTART:20260627T110000Z
SUMMARY:Wreck Bay Muster and Crews Race
URL:http://fairlieyachtclub.org.uk/events-beta/11-main-events/8753-wreck-ba
 y-muster-and-crews-race
END:VEVENT
END:VCALENDAR
