BEGIN:VCALENDAR
VERSION:2.0
PRODID:-//http://fairlieyachtclub.org.uk//NONSGML kigkonsult.se iCalcreator
  2.20//
METHOD:PUBLISH
X-WR-CALNAME:JCal Pro Calendar
X-WR-CALDESC:Your online events calendar
X-WR-TIMEZONE:UTC
BEGIN:VTIMEZONE
TZID:UTC
X-LIC-LOCATION:UTC
BEGIN:STANDARD
DTSTART:00001130T000000
TZOFFSETFROM:+0000
TZOFFSETTO:+0000
TZNAME:UTC
END:STANDARD
END:VTIMEZONE
BEGIN:VEVENT
UID:20220831T190000UTC-d3aff4@http://www.fairlieyachtclub.org.uk/
DTSTAMP:20260423T173618Z
DESCRIPTION:<p>Festival Midweek Evening Race 2&nbsp\; &nbsp\; Open to all a
 nd Free to Enter</p>\n\n<p>IRC\, CYCA and one design Classes</p>\n
DTSTART:20260826T190000Z
SUMMARY:Midweek Festival Race 2
URL:http://fairlieyachtclub.org.uk/events-beta/11-main-events/8791-midweek-
 festival-race-2
END:VEVENT
END:VCALENDAR
